BEGIN:VCALENDAR
VERSION:2.0
PRODID:-//ChamberMaster//Event Calendar 2.0//EN
METHOD:PUBLISH
X-PUBLISHED-TTL:P3D
REFRESH-INTERVAL:P3D
CALSCALE:GREGORIAN
BEGIN:VEVENT
DTSTART:20190910T223000Z
DTEND:20190911T010000Z
X-MICROSOFT-CDO-ALLDAYEVENT:FALSE
SUMMARY:Welcome to Entrepreneurship
DESCRIPTION:In this introductory class\, you will discover:\n\n\n	What it takes to start a business and be a successful entrepreneur.\n	How to evaluate your business idea\, determine marketability and profitability (also known as the Business Model Canvas).\n	How to transform your business idea into an actionable business plan.\n	Local resources available to assist you on your entrepreneurial journey. \n	An opportunity to network with other attendees.\n\nInstructor: Abby Zarkin & Herbert Dittmar\n\nSCORE is a nonprofit association dedicated to helping small businesses get off the ground\, grow and achieve their goals through education and mentorship.  SCORE is supported by the US Small Business Administration (SBA)\, has a national network of over 10\,000 volunteers and a vibrant local chapter.\n\n \n\nAbby Zarkin\n\nAbby brings over 30 years of corporate experience from IBM and Lenovo\, as well as recent hands-on entrepreneurial experience to her business coaching work. She has held corporate positions in line management and staff leadership in Finance\, Pricing\, Business Strategy\, Re-engineering\, Operations\, Marketing\, Sales Support and Advertising. She has often been charged with leading cross-functional teams to establish new approaches to business challenges at global and regional levels. After retiring from Lenovo she launched a specialty candy business based in Chapel Hill\, North Carolina - Sweeten Creek Candy Company - which provided exclusive corporate gifts to her clients' high value customers. She served as Sweeten Creek's founder and chief for two and a half years. She is now principal of Zarkin Leadership\, LLC\, where she helps professionals and teams strengthen their leadership muscles at all levels of the organization.\n\n \n\nHerbert Dittmar\n\n30+Years of Experience in Multinational and Multicultural Management and Marketing with a demonstrated ability in operational and strategic management in HQ\, as well as in various countries\, operational sizes\, and cultures across several Business to Consumer (B2C) and Business to Business (B2B) industries.
X-ALT-DESC;FMTTYPE=text/html:<strong><span style="color:#202020\;"><span style="font-family:helvetica\,sans-serif\;"><span style="font-size:12.0pt\;">In this introductory class\, you will discover:</span></span></span></strong>\n\n<ol>\n	<li style="color:#202020\;line-height:150%\;vertical-align:baseline\;"><span style="font-family:helvetica\,sans-serif\;"><span style="font-size:12.0pt\;">What it takes to start a business and be a successful entrepreneur.</span></span></li>\n	<li style="color:#202020\;line-height:150%\;vertical-align:baseline\;"><span style="font-family:helvetica\,sans-serif\;"><span style="font-size:12.0pt\;">How to evaluate your business idea\, determine marketability and profitability (also known as the Business Model Canvas).</span></span></li>\n	<li style="color:#202020\;line-height:150%\;vertical-align:baseline\;"><span style="font-family:helvetica\,sans-serif\;"><span style="font-size:12.0pt\;">How to transform&nbsp\;your business idea into an actionable business plan.</span></span></li>\n	<li style="color:#202020\;line-height:150%\;vertical-align:baseline\;"><span style="font-family:helvetica\,sans-serif\;"><span style="font-size:12.0pt\;">Local resources available to assist you on your entrepreneurial journey.&nbsp\;</span></span></li>\n	<li style="color:#202020\;line-height:150%\;vertical-align:baseline\;"><span style="font-family:helvetica\,sans-serif\;"><span style="font-size:12.0pt\;">An opportunity to network with other attendees.</span></span></li>\n</ol>\n<span style="color:#202020\;"><span style="font-family:helvetica\,sans-serif\;"><span style="font-size:12.0pt\;">Instructor: <strong>Abby Zarkin&nbsp\;&amp\; Herbert Dittmar</strong></span></span></span><br />\n<strong><span style="color:#202020\;"><span style="font-family:helvetica\,sans-serif\;"><span style="font-size:12.0pt\;">SCORE </span></span></span></strong><span style="color:#202020\;"><span style="font-family:helvetica\,sans-serif\;"><span style="font-size:12.0pt\;">is a nonprofit association dedicated to helping small&nbsp\;businesses get off the ground\, grow and achieve their goals through education and mentorship. &nbsp\;SCORE is&nbsp\;</span></span></span><span style="color:black\;"><span style="font-family:helvetica\,sans-serif\;"><span style="font-size:12.0pt\;">supported by the US Small Business Administration (SBA)\, has a national network of over 10\,000 volunteers and a vibrant local chapter.</span></span></span><br />\n&nbsp\;<br />\n<strong><span style="color:black\;"><span style="font-family:helvetica\,sans-serif\;"><span style="font-size:12.0pt\;">Abby Zarkin</span></span></span></strong><br />\n<span style="color:black\;"><span style="font-family:helvetica\,sans-serif\;"><span style="font-size:12.0pt\;">Abby brings over 30 years of corporate experience from IBM and Lenovo\, as well as recent hands-on entrepreneurial experience to her business coaching work. She has held corporate positions in line management and staff leadership in Finance\, Pricing\, Business Strategy\, Re-engineering\, Operations\, Marketing\, Sales Support and Advertising. She has often been charged with leading cross-functional teams to establish new approaches to business challenges at global and regional levels. After retiring from Lenovo she launched a specialty candy business based in Chapel Hill\, North Carolina - Sweeten Creek Candy Company - which provided exclusive corporate gifts to her clients&#39\; high value customers. She served as Sweeten Creek&#39\;s founder and chief for two and a half years. She is now principal of Zarkin Leadership\, LLC\, where she helps professionals and teams strengthen their leadership muscles at all levels of the organization.</span></span></span><br />\n&nbsp\;<br />\n<strong><span style="color:black\;"><span style="font-family:helvetica\,sans-serif\;"><span style="font-size:12.0pt\;">Herbert Dittmar</span></span></span></strong><br />\n<span style="color:black\;"><span style="font-family:helvetica\,sans-serif\;"><span style="font-size:12.0pt\;">30+Years of Experience in Multinational and Multicultural Management and Marketing with a demonstrated ability in operational and strategic management in HQ\, as well as in various countries\, operational sizes\, and cultures across several Business to Consumer (B2C) and Business to Business (B2B) industries.</span></span></span>
LOCATION:Levin Jewish Community Center 1937 W Cornwallis Road Durham\, NC 27705
UID:e.1159.3782
SEQUENCE:3
DTSTAMP:20260421T155248Z
URL:http://members.durhamchamber.org/events/details/welcome-to-entrepreneurship-3782
END:VEVENT

END:VCALENDAR
