BEGIN:VCALENDAR
VERSION:2.0
PRODID:-//ChamberMaster//Event Calendar 2.0//EN
METHOD:PUBLISH
X-PUBLISHED-TTL:P3D
REFRESH-INTERVAL:P3D
CALSCALE:GREGORIAN
BEGIN:VEVENT
DTSTART:20190709T220000Z
DTEND:20190710T013000Z
X-MICROSOFT-CDO-ALLDAYEVENT:FALSE
SUMMARY:Welcome to Entrepreneurship presented by SCORE
DESCRIPTION:People of all ages are starting new businesses and taking existing businesses to the next level. Be part of one of the hottest trends in America today. Learn about entrepreneurship: how to create the business of your dreams! \n\n\n\nSCORE is a nonprofit association dedicated to helping small businesses get off the ground\, grow and achieve their goals through education and mentorship. SCORE is supported by the US Small Business Administration (SBA)\, has a national network of over 10\,000 volunteers and a vibrant local chapter.
X-ALT-DESC;FMTTYPE=text/html:<span style="font-size:16px\;"><span style="font-family:verdana\;">People of all ages are starting new businesses and taking existing businesses to the next level. Be part of one of the hottest trends in America today. Learn about entrepreneurship: how to create the business of your dreams!&nbsp\;<br />\n<br style="color: rgb(29\, 33\, 41)\; font-family: Helvetica\, Arial\, sans-serif\; font-size: 14px\; white-space: pre-wrap\;" />\n<span style="color: rgb(29\, 33\, 41)\; white-space: pre-wrap\;">SCORE is a nonprofit association dedicated to helping small businesses get off the ground\, grow and achieve their goals through education and mentorship. SCORE is supported by the US Small Business Administration (SBA)\, has a national network of over 10\,000 volunteers and a vibrant local </span>chapter.&nbsp\;</span></span>
LOCATION:Jewish Community Center 1937 W Cornwallis Road Durham\, NC 27705
UID:e.1159.3751
SEQUENCE:3
DTSTAMP:20260422T104811Z
URL:http://members.durhamchamber.org/events/details/welcome-to-entrepreneurship-presented-by-score-3751
END:VEVENT

END:VCALENDAR
