BEGIN:VCALENDAR
VERSION:2.0
PRODID:-//ChamberMaster//Event Calendar 2.0//EN
METHOD:PUBLISH
X-PUBLISHED-TTL:P3D
REFRESH-INTERVAL:P3D
CALSCALE:GREGORIAN
BEGIN:VEVENT
DTSTART:20191112T233000Z
DTEND:20191113T020000Z
X-MICROSOFT-CDO-ALLDAYEVENT:FALSE
SUMMARY:Welcome to Entrepreneurship presented by SCORE
DESCRIPTION:In this introductory class\, you will discover:\n\n1. What it takes to start a business and be a successful entrepreneur.\n\n2. How to evaluate your business idea\, determine marketability and profitability (also known as the Business Model Canvas).\n\n3. How to transform your business idea into an actionable business plan.\n\n4. Local resources available to assist you on your entrepreneurial journey. \n\n5. An opportunity to network with other attendees.\n\n \n\nInstructors: Ivona Piper & Chris Exton\n\n \n\nSCORE is a nonprofit association dedicated to helping small businesses get off the ground\, grow and achieve their goals through education and mentorship.  SCORE is supported by the US Small Business Administration (SBA)\, has a national network of over 10\,000 volunteers and a vibrant local chapter.\n\n \n\nIvona Piper\n\nMulti-channel marketing executive with 30 years of experience in technology and analytics driven marketing\, in both B2B and B2C corporate environments. Led the development of business foundations for Customer Relationship Management (CRM)\, data mining\, customer analytics\, and automated marketing for major retailers and clinical research companies such as Staples\, Quintiles\, and Limited Inc. Frequent speaker at conferences (DMA\, NCDM\, IIR\, Adobe\, SAS) on analytics in retail industry\, and guest lecturer (Babson\, Penn) on customer information management in marketing . Graduate of University of Pennsylvania and Wharton School. Fluent in English\, Polish (native) and proficient in Russian.\n\n \n\nChris Exton\n\nCounselor and mentor with experience in R&D\, operations\, manufacturing\, project and business planning\, finance\, sales\, marketing and supply chain management primarily in the specialty chemical and agricultural chemical industries around the world. Held senior management positions in both large and small companies while living and working in the US and Europe. Helped numerous start-ups in Europe and the USBS-Chem. Eng. Tufts Univ.\, M.S. in Management RPI.
X-ALT-DESC;FMTTYPE=text/html:<div>&nbsp\;In this introductory class\, you will discover:</div>\n\n<div>1.<span style="white-space: pre\;"> </span>What it takes to start a business and be a successful entrepreneur.</div>\n\n<div>2.<span style="white-space: pre\;"> </span>How to evaluate your business idea\, determine marketability and profitability (also known as the Business Model Canvas).</div>\n\n<div>3.<span style="white-space: pre\;"> </span>How to transform your business idea into an actionable business plan.</div>\n\n<div>4.<span style="white-space: pre\;"> </span>Local resources available to assist you on your entrepreneurial journey.&nbsp\;</div>\n\n<div>5.<span style="white-space: pre\;"> </span>An opportunity to network with other attendees.</div>\n\n<div>&nbsp\;</div>\n\n<div>Instructors: Ivona Piper &amp\; Chris Exton</div>\n\n<div>&nbsp\;</div>\n\n<div>SCORE is a nonprofit association dedicated to helping small businesses get off the ground\, grow and achieve their goals through education and mentorship.&nbsp\; SCORE is supported by the US Small Business Administration (SBA)\, has a national network of over 10\,000 volunteers and a vibrant local chapter.</div>\n\n<div>&nbsp\;</div>\n\n<div><strong>Ivona Piper</strong></div>\n\n<div>Multi-channel marketing executive with 30 years of experience in technology and analytics driven marketing\, in both B2B and B2C corporate environments. Led the development of business foundations for Customer Relationship Management (CRM)\, data mining\, customer analytics\, and automated marketing for major retailers and clinical research companies such as Staples\, Quintiles\, and Limited Inc. Frequent speaker at conferences (DMA\, NCDM\, IIR\, Adobe\, SAS) on analytics in retail industry\, and guest lecturer (Babson\, Penn) on customer information management in marketing . Graduate of University of Pennsylvania and Wharton School. Fluent in English\, Polish (native) and proficient in Russian.</div>\n\n<div>&nbsp\;</div>\n\n<div><strong>Chris Exton</strong></div>\n\n<div>Counselor and mentor with experience in R&amp\;D\, operations\, manufacturing\, project and business planning\, finance\, sales\, marketing and supply chain management primarily in the specialty chemical and agricultural chemical industries around the world. Held senior management positions in both large and small companies while living and working in the US and Europe. Helped numerous start-ups in Europe and the USBS-Chem. Eng. Tufts Univ.\, M.S. in Management RPI.</div>\n
LOCATION:Jewish Community Center 1937 W Cornwallis Road Durham\, NC 27705
UID:e.1159.4812
SEQUENCE:3
DTSTAMP:20260421T225808Z
URL:http://members.durhamchamber.org/events/details/welcome-to-entrepreneurship-presented-by-score-4812
END:VEVENT

END:VCALENDAR
