BEGIN:VCALENDAR
VERSION:2.0
PRODID:-//ChamberMaster//Event Calendar 2.0//EN
METHOD:PUBLISH
X-PUBLISHED-TTL:P3D
REFRESH-INTERVAL:P3D
CALSCALE:GREGORIAN
BEGIN:VEVENT
DTSTART:20240725T223500Z
DTEND:20240726T013000Z
X-MICROSOFT-CDO-ALLDAYEVENT:FALSE
SUMMARY:Durham Chamber Night at the Ballpark - July 2024
DESCRIPTION:Join us to celebrate the heart of summer at our Durham Chamber Night at the Durham Bulls game!\n\n\n\nYou and a guest are invited to come out to the Durham Bulls so we can say THANK YOU for being a Durham Chamber member or Key Investor! Tickets\, dinner\, and drinks are on us.\n\n\n\n\nTickets are limited. This event is currently sold out\, so please sign up to the waitlist.\n\n\n\n\n\n \nHave a question about the event?\n\nQuestions about tickets? Email Julie Messina \n\nQuestions about sponsorship opportunities? Email Angelique Stallings \n\nQuestions about event logistics or marketing? Email Lauren Umbdenstock
X-ALT-DESC;FMTTYPE=text/html:<div style="text-align: center\;"><span style="color:#000000\;"><span style="font-size:16px\;"><span style="font-family:arial\;">Join us to celebrate the heart of summer at our Durham Chamber Night at the Durham Bulls game!</span></span></span></div>\n\n<div style="text-align: center\;"><br />\n<span style="color:#000000\;"><span style="font-size:16px\;"><span style="font-family:arial\;">You and a guest are invited to come out to the Durham Bulls so we can say THANK YOU for being a Durham Chamber member or Key Investor! Tickets\, dinner\, and drinks are on us.</span></span></span></div>\n<br />\n<br />\n<span style="color:#000000\;"><span style="font-size:16px\;"><span style="font-family:arial\;">Tickets are limited. This event is currently sold out\, so please sign up to the waitlist.</span></span></span><br />\n<br />\n<br />\n&nbsp\;\n<div style="font-size: 16px\; box-sizing: border-box\; -webkit-font-smoothing: antialiased\; caret-color: rgb(68\, 68\, 68)\; color: rgb(68\, 68\, 68)\; font-family: Montserrat\, sans-serif\;"><span style="color:#000000\;"><span style="font-size:16px\;"><span style="font-family:arial\;"><span style="box-sizing: border-box\; -webkit-font-smoothing: antialiased\;"><span style="box-sizing: border-box\; -webkit-font-smoothing: antialiased\;">Have a question about the event?</span></span></span></span></span></div>\n\n<div style="font-size: 16px\; box-sizing: border-box\; -webkit-font-smoothing: antialiased\; caret-color: rgb(68\, 68\, 68)\; color: rgb(68\, 68\, 68)\; font-family: Montserrat\, sans-serif\;"><span style="font-size:16px\;"><span style="font-family:arial\;"><span style="box-sizing: border-box\; -webkit-font-smoothing: antialiased\;"><span style="box-sizing: border-box\; -webkit-font-smoothing: antialiased\;"><span style="color:#000000\;">Questions about tickets? Email&nbsp\;</span><a href="mailto:jmessina@durhamchamber.org?subject=Annual%20Meeting%20KI%20Tickets" style="box-sizing: border-box\; -webkit-font-smoothing: antialiased\; color: rgb(68\, 68\, 68)\; cursor: pointer\; white-space: nowrap\; text-decoration: none\; overflow-wrap: break-word\; outline: 0px\;"><span style="color:#000000\;">Julie Messina&nbsp\;</span></a><br style="box-sizing: border-box\; -webkit-font-smoothing: antialiased\;" />\n<span style="color:#000000\;">Questions about sponsorship opportunities? Email&nbsp\;</span><a href="mailto:astallings@durhamchamber.org?subject=Annual%20Meeting%20Sponsorship" style="box-sizing: border-box\; -webkit-font-smoothing: antialiased\; color: rgb(68\, 68\, 68)\; cursor: pointer\; white-space: nowrap\; text-decoration: none\; overflow-wrap: break-word\; outline: 0px\;"><span style="color:#000000\;">Angelique Stallings&nbsp\;</span></a><br style="box-sizing: border-box\; -webkit-font-smoothing: antialiased\;" />\n<span style="color:#000000\;">Questions about event logistics or marketing? Email&nbsp\;</span><a href="mailto:lumbdenstock@durhamchamber.org?subject=Annual%20Meeting%20Event%20Logistics%20and%20Marketing" style="box-sizing: border-box\; -webkit-font-smoothing: antialiased\; color: rgb(68\, 68\, 68)\; cursor: pointer\; white-space: nowrap\; text-decoration: none\; overflow-wrap: break-word\; outline: 0px\;"><span style="color:#000000\;">Lauren Umbdenstock&nbsp\;</span></a></span></span></span></span></div>\n&nbsp\;\n\n<p style="font-size: 16px\; caret-color: rgb(33\, 33\, 33)\; color: rgb(33\, 33\, 33)\; font-family: Calibri\;">&nbsp\;</p>\n\n<p style="font-size: 16px\; caret-color: rgb(33\, 33\, 33)\; color: rgb(33\, 33\, 33)\; font-family: Calibri\;"><br />\n&nbsp\;</p>\n
LOCATION:
UID:e.1159.8763
SEQUENCE:3
DTSTAMP:20260420T135809Z
URL:https://members.durhamchamber.org/events/details/durham-chamber-night-at-the-ballpark-july-2024-8763
END:VEVENT

END:VCALENDAR
